BEGIN:VCALENDAR
VERSION:2.0
PRODID:-//eventon.com NONSGML v1.0//EN
CALSCALE:GREGORIAN
METHOD:PUBLISH
BEGIN:VEVENT
UID:69e733d47ee79
DTSTAMP:20260421T082244Z
DTSTART:20230122T070000Z
DTEND:20230123T100000Z
LOCATION:
SUMMARY:OUTTA THE BLUE
DESCRIPTION:BODY\, .aolmailheader {font-size:10pt; color:black; font-family
 :Arial;}a.aolmailheader:link {color:blue; text-decoration:underline; font-w
 eight:normal;}a.aolmailheader:visited {color:magenta; text-decoration:under
 line; font-weight:normal;}a.aolmailheader:active {color:blue; text-decorati
 on:underline; font-weight:normal;}a.aolmailheader:hover {color:blue; text-d
 ecoration:underline; font-weight:normal;} 0UTTA THE BLUE The three original
  members of the ban\,  Larry Cox\,  Ted Gay and Lewis Chisholm\,  have been
  playinh around south Florida for more than 20 years. Andre Cox &amp; Bill
  Garzia have been[..]\nhttps://lunastarcafe.com/events/outta-the-blue/
URL:https://lunastarcafe.com/events/outta-the-blue/
END:VEVENT
END:VCALENDAR