BEGIN:VCALENDAR
VERSION:2.0
PRODID:-//eventon.com NONSGML v1.0//EN
CALSCALE:GREGORIAN
METHOD:PUBLISH
BEGIN:VEVENT
UID:69e9f4940625d
DTSTAMP:20260423T102940Z
DTSTART:20260509T233000Z
DTEND:20260510T030000Z
LOCATION:
SUMMARY:GRANT PEEPLES
DESCRIPTION:Saturday May 9th | 7:30pm | $15 suggested donation A self-descr
 ibed  “vegetarian that watches NASCAR\,  and  tree-hugger with a gun be
 low the seat\, ”  Grant Peeples is known for his axe-sharp socio-politic
 al tunes\,  raucous humor and heart-gigging ballads. In 2014 he was the rec
 ipient of the Focus Foundation Award for Creative[..]\nhttps://lunastarcafe
 .com/events/grant-peeples-2/
URL:https://lunastarcafe.com/events/grant-peeples-2/
END:VEVENT
END:VCALENDAR