BEGIN:VCALENDAR
VERSION:2.0
PRODID:-//eventon.com NONSGML v1.0//EN
CALSCALE:GREGORIAN
METHOD:PUBLISH
BEGIN:VEVENT
UID:69e6e948aef2d
DTSTAMP:20260421T030440Z
DTSTART:20160307T000000Z
DTEND:20160308T160000Z
LOCATION:
SUMMARY:JON BROOKS
DESCRIPTION:JON BROOKS “I write songs to calm those who’ve looked into\
 ,  and seen\,  what is in their hearts. I also write songs to terrify those
  who have not.” – Jon Brooks Nearing the end of a year of travel in 199
 7 throughout Eastern Europe\,  the former Soviet Union\,  and particularly\
 , [..]\nhttps://lunastarcafe.com/events/jon-brooks/
URL:https://lunastarcafe.com/events/jon-brooks/
END:VEVENT
END:VCALENDAR