BEGIN:VCALENDAR
VERSION:2.0
PRODID:-//eventon.com NONSGML v1.0//EN
CALSCALE:GREGORIAN
METHOD:PUBLISH
BEGIN:VEVENT
UID:69e73403b7b30
DTSTAMP:20260421T082331Z
DTSTART:20180316T000000Z
DTEND:20180316T130000Z
LOCATION:
SUMMARY:CHRIS DAVIO
DESCRIPTION:Chris Davio is a songwriter who moved to Nashville from Miami i
 n 2015. Chris collaborates with artists and performers\,  including Ann Arb
 or Michigan&#8217;s Matt Watroba. &#8216;Money Honey&#8217; is a co-write w
 ith Amanda Arnold of Dothan\,  Alabama\,  featuring Nashville&#8217;s Heidi
  Burson. Click &#8216;All Songs&#8217; to view the entire catalog.\nhttps:/
 /lunastarcafe.com/events/chris-davio/
URL:https://lunastarcafe.com/events/chris-davio/
END:VEVENT
END:VCALENDAR