BEGIN:VCALENDAR
VERSION:2.0
PRODID:-//eventon.com NONSGML v1.0//EN
CALSCALE:GREGORIAN
METHOD:PUBLISH
BEGIN:VEVENT
UID:69e7ad010dc41
DTSTAMP:20260421T165945Z
DTSTART:20171129T050000Z
DTEND:20180102T040000Z
LOCATION:
SUMMARY:WE WILL BE CLOSED FOR HOLIDAY NOV. 29 - JAN. 1 ST  HAPPY WINTER SOLSTICE WE WILL REOPEN TUE. JAN 2ND FOR THE JAM
DESCRIPTION:WE WILL BE CLOSED FOR HOLIDAY NOV. 29- JAN. 1 ST. &nbsp;\nhttps
 ://lunastarcafe.com/events/we-are-closed-taking-a-holiday-re-open-jan-5th/
URL:https://lunastarcafe.com/events/we-are-closed-taking-a-holiday-re-open-jan-5th/
END:VEVENT
END:VCALENDAR