BEGIN:VCALENDAR
VERSION:2.0
PRODID:-//eventon.com NONSGML v1.0//EN
CALSCALE:GREGORIAN
METHOD:PUBLISH
BEGIN:VEVENT
UID:69e9f31b6aa99
DTSTAMP:20260423T102323Z
DTSTART:20260528T230000Z
DTEND:20260529T035900Z
LOCATION:
SUMMARY:Greenwich Village Tribute Night!
DESCRIPTION:More details to come&#8230;. Reach out to the team at Luna Star
  if you&#8217;d like to play a few tunes by one of the many influential art
 ists of the Greenwich Village music scene! This of course includes but is n
 ot limited to Bob Dylan\,  Fred Neil\,  Joan Baez\,  Dave Van[..]\nhttps://
 lunastarcafe.com/events/dylan-greenwich-village-tribute-night/
URL:https://lunastarcafe.com/events/dylan-greenwich-village-tribute-night/
END:VEVENT
END:VCALENDAR