BEGIN:VCALENDAR
VERSION:2.0
PRODID:-//eventon.com NONSGML v1.0//EN
CALSCALE:GREGORIAN
METHOD:PUBLISH
BEGIN:VEVENT
UID:69e9f34991410
DTSTAMP:20260423T102409Z
DTSTART:20260522T000000Z
DTEND:20260522T035900Z
LOCATION:
SUMMARY:Saeed Tabibi
DESCRIPTION:8:00PM | No Cover &#8211; donations always encouraged Saeed Tab
 ibi with special guests The Brothers Nylon + El Hilo. Saeed Tabibi is a Mia
 mi-born and bred artist blending Cuban and Persian roots into soulful\,  ge
 nre-defying music filled with positive vibrations that celebrate the beauty
  of life.\nhttps://lunastarcafe.com/events/saeed-tabibi/
URL:https://lunastarcafe.com/events/saeed-tabibi/
END:VEVENT
END:VCALENDAR