BEGIN:VCALENDAR
VERSION:2.0
PRODID:-//eventon.com NONSGML v1.0//EN
CALSCALE:GREGORIAN
METHOD:PUBLISH
BEGIN:VEVENT
UID:69e9f3d4d002e
DTSTAMP:20260423T102628Z
DTSTART:20260509T000000Z
DTEND:20260509T035900Z
LOCATION:
SUMMARY:Seth Shealer + Co.
DESCRIPTION:From the Appalachian front porch to the smoke-filled jazz clubs
  of Harlem—get ready for an eclectic night of live music at the iconic Lu
 na Star Cafe. I&#8217;ll be joined by a premier ensemble of master musician
 s\,  featuring Mark Abramowitz on upright bass\,  Nick Blanton on Dobro\,  
 Mike Hutnik on 5-string[..]\nhttps://lunastarcafe.com/events/seth-shealer-c
 o/
URL:https://lunastarcafe.com/events/seth-shealer-co/
END:VEVENT
END:VCALENDAR