BEGIN:VCALENDAR
VERSION:2.0
PRODID:-//eventon.com NONSGML v1.0//EN
CALSCALE:GREGORIAN
METHOD:PUBLISH
BEGIN:VEVENT
UID:69e9f3ce6449e
DTSTAMP:20260423T102622Z
DTSTART:20260515T000000Z
DTEND:20260515T035900Z
LOCATION:
SUMMARY:Celtic Thursdays with Gaêlica - Last one of the season!
DESCRIPTION:8:00pm | $10 COVER &#8211; Help us close out this Celtic Thursd
 ay season with Gaêlica before summer break! You don&#8217;t want to miss t
 his! Gaêlica\,  a three-person Celtic\,  folk\,  and world music band has 
 a 20-year history. First formed in Venezuela\,  the band performs Celtic mu
 sic with Venezuelan and Latin[..]\nhttps://lunastarcafe.com/events/celtic-t
 hursdays-with-gaelica-2/
URL:https://lunastarcafe.com/events/celtic-thursdays-with-gaelica-2/
END:VEVENT
END:VCALENDAR