BEGIN:VCALENDAR
VERSION:2.0
PRODID:-//eventon.com NONSGML v1.0//EN
CALSCALE:GREGORIAN
METHOD:PUBLISH
BEGIN:VEVENT
UID:69e9f6160a791
DTSTAMP:20260423T103606Z
DTSTART:20260109T010000Z
DTEND:20260109T045500Z
LOCATION:
SUMMARY:JAZZ WITH AMY ARLO'S MIXED BAG
DESCRIPTION:&nbsp; &nbsp;\nhttps://lunastarcafe.com/events/jazz-with-amy-ar
 los-mixed-bag-2/
URL:https://lunastarcafe.com/events/jazz-with-amy-arlos-mixed-bag-2/
END:VEVENT
END:VCALENDAR