BEGIN:VCALENDAR
VERSION:2.0
PRODID:-//eventon.com NONSGML v1.0//EN
CALSCALE:GREGORIAN
METHOD:PUBLISH
BEGIN:VEVENT
UID:69e746d55e78a
DTSTAMP:20260421T094349Z
DTSTART:20251129T200000Z
DTEND:20251129T200000Z
LOCATION:
SUMMARY:VELVET SUN - Scott Weinkle
DESCRIPTION:Velvet Sun is an ongoing project by singer/guitarist/drummer Sc
 ott Weinkle. The songs are a hybrid of crunch guitars\,  pop hooks\,  sonic
  distortion and celestial atmospheres. Weinkle&#8217;s new 4 song EP Empire
  continues the journey first travelled on the 2001 release Dreamhome. Never
  far from his roots in psychedelia\,  British invasion[..]\nhttps://lunasta
 rcafe.com/events/velvet-sun/
URL:https://lunastarcafe.com/events/velvet-sun/
END:VEVENT
END:VCALENDAR