BEGIN:VCALENDAR
VERSION:2.0
PRODID:-//eventon.com NONSGML v1.0//EN
CALSCALE:GREGORIAN
METHOD:PUBLISH
BEGIN:VEVENT
UID:69e9e0aba0199
DTSTAMP:20260423T090443Z
DTSTART:20150918T000000Z
DTEND:20150918T040000Z
LOCATION:
SUMMARY:ALEX DIAZ
DESCRIPTION:Alex Diaz is a local singer songwriter currently finishing his 
 latest album Dirt Road Lullabies. His music can be described as raw\,  dark
 \,  honest and filled with humor and style. Set aside Alex Diaz&#8217;s mas
 ter guitar skills\,  rock star demeanor and spirited showmanship\,  and you
  have an outlaw. Living outside[..]\nhttps://lunastarcafe.com/events/alex-d
 iaz/
URL:https://lunastarcafe.com/events/alex-diaz/
END:VEVENT
END:VCALENDAR