BEGIN:VCALENDAR
VERSION:2.0
PRODID:-//eventon.com NONSGML v1.0//EN
CALSCALE:GREGORIAN
METHOD:PUBLISH
BEGIN:VEVENT
UID:69e9df7e00ac7
DTSTAMP:20260423T085942Z
DTSTART:20241001
DTEND:20241101
LOCATION:
SUMMARY:HELP NEEDED
DESCRIPTION:\nhttps://lunastarcafe.com/events/help-needed/
URL:https://lunastarcafe.com/events/help-needed/
END:VEVENT
END:VCALENDAR