BEGIN:VCALENDAR
VERSION:2.0
PRODID:-//eventon.com NONSGML v1.0//EN
CALSCALE:GREGORIAN
METHOD:PUBLISH
BEGIN:VEVENT
UID:69eaa5b68cf5d
DTSTAMP:20260423T230526Z
DTSTART:20231028T082300Z
DTEND:20231029T082300Z
LOCATION:
SUMMARY:SARAH AND ANDREA
DESCRIPTION:SARAH AND ANDREA\nhttps://lunastarcafe.com/events/sarah-and-and
 rea/
URL:https://lunastarcafe.com/events/sarah-and-andrea/
END:VEVENT
END:VCALENDAR