BEGIN:VCALENDAR
VERSION:2.0
PRODID:-//eventon.com NONSGML v1.0//EN
CALSCALE:GREGORIAN
METHOD:PUBLISH
BEGIN:VEVENT
UID:69e7317ddd1e2
DTSTAMP:20260421T081245Z
DTSTART:20251031T070000Z
DTEND:20251031T051700Z
LOCATION:
SUMMARY:EVENT TBA- COME HANG\,  ENJOY A DRINK + BITE\,  MAKE NEW FRIENDS
DESCRIPTION:EVENT TBA- COME HANG\,  ENJOY A DRINK + BITE\,  MAKE NEW FRIEND
 S\nhttps://lunastarcafe.com/events/tba-we-are-open-even-if-there-is-no-musi
 c-please-come-out-and-support-2/
URL:https://lunastarcafe.com/events/tba-we-are-open-even-if-there-is-no-music-please-come-out-and-support-2/
END:VEVENT
END:VCALENDAR