BEGIN:VCALENDAR
VERSION:2.0
PRODID:-//eventon.com NONSGML v1.0//EN
CALSCALE:GREGORIAN
METHOD:PUBLISH
BEGIN:VEVENT
UID:69e9df5f10d0d
DTSTAMP:20260423T085911Z
DTSTART:20190809T000000Z
DTEND:20190810T030000Z
LOCATION:
SUMMARY:TBA
DESCRIPTION:TBA\nhttps://lunastarcafe.com/events/1665/
URL:https://lunastarcafe.com/events/1665/
END:VEVENT
END:VCALENDAR