BEGIN:VCALENDAR
VERSION:2.0
PRODID:-//eventon.com NONSGML v1.0//EN
CALSCALE:GREGORIAN
METHOD:PUBLISH
BEGIN:VEVENT
UID:69ea3777e870f
DTSTAMP:20260423T151503Z
DTSTART:20221001T190000Z
DTEND:20221003T100000Z
LOCATION:
SUMMARY:SOUTH FLORIDA FOLK CLUB PRESENTS CLIFF & FRIENDS : A NIGHT OF BLUEGRASS MUSIC
DESCRIPTION:CLIFF &amp; FRIENDS Cliff Cliff &amp; Friends\,  grew out of th
 e band Corn Country\,  Lead by the Great Mort Glosser. This band was strict
 ly regimented as old-timey style music. After a couple of years playing in 
 the band\,  Cliff Holdren realized that the other members of the group had 
 the[..]\nhttps://lunastarcafe.com/events/south-florida-bluegrass-associatio
 n-presents-a-night-of-bluegrass-music/
URL:https://lunastarcafe.com/events/south-florida-bluegrass-association-presents-a-night-of-bluegrass-music/
END:VEVENT
END:VCALENDAR