BEGIN:VCALENDAR
VERSION:2.0
PRODID:-//eventon.com NONSGML v1.0//EN
CALSCALE:GREGORIAN
METHOD:PUBLISH
BEGIN:VEVENT
UID:69ec1525e43a4
DTSTAMP:20260425T011309Z
DTSTART:20181025T000000Z
DTEND:20181026T035100Z
LOCATION:
SUMMARY:SHELLY PEIKEN
DESCRIPTION:SHELLY PEIKEN  Multi-platinum\,  Grammy-nominated songwriter S
 helly Peiken grew up in Freeport\,  Long Island\,  lived in New York City\,
   and now calls Los Angeles home. Best known for her #1 hits “What a Girl
  Wants” and “Come on Over Baby” recorded by Christina Aguilera and 
 Bitch” recorded by Meredith Brooks\,  which[..]\nhttps://lunastarcafe.co
 m/events/shelly-peiken/
URL:https://lunastarcafe.com/events/shelly-peiken/
END:VEVENT
END:VCALENDAR