BEGIN:VCALENDAR
VERSION:2.0
PRODID:-//eventon.com NONSGML v1.0//EN
CALSCALE:GREGORIAN
METHOD:PUBLISH
BEGIN:VEVENT
UID:69ebdb8d1a2b5
DTSTAMP:20260424T210725Z
DTSTART:20260104T010000Z
DTEND:20260104T040000Z
LOCATION:
SUMMARY:CHAKULLA SMITH & ANDY MAUCK (Presented by SFFAMC)
DESCRIPTION:Chakulla (affectionately known as Grandfather Chakulla) is an i
 ndividual\,  expressing his music with an organic grove of worldly rhythmâ€
 ™s\,  unique guitar cords\,  catchy and memorable melodies. He sings out wi
 th an acoustic guitar using a loop pedal enabling leads\,  harmonica\,  mar
 imba\,  congaâ€™s\,  percussion\,  and vocal percussion lines to manifest o
 n[..]\nhttps://lunastarcafe.com/events/chakulla-and-me/
URL:https://lunastarcafe.com/events/chakulla-and-me/
END:VEVENT
END:VCALENDAR