BEGIN:VCALENDAR
VERSION:2.0
PRODID:-//eventon.com NONSGML v1.0//EN
CALSCALE:GREGORIAN
METHOD:PUBLISH
BEGIN:VEVENT
UID:69e745acd0e69
DTSTAMP:20260421T093852Z
DTSTART:20190523T000400Z
DTEND:20190524T033800Z
LOCATION:
SUMMARY:TBA
DESCRIPTION:TBA\nhttps://lunastarcafe.com/events/tba/
URL:https://lunastarcafe.com/events/tba/
END:VEVENT
END:VCALENDAR