BEGIN:VCALENDAR
VERSION:2.0
PRODID:-//eventon.com NONSGML v1.0//EN
CALSCALE:GREGORIAN
METHOD:PUBLISH
BEGIN:VEVENT
UID:69e97846c0c6a
DTSTAMP:20260423T013918Z
DTSTART:20180420T000000Z
DTEND:20180421T031200Z
LOCATION:
SUMMARY:LUKE DeROY
DESCRIPTION:Luke DeRoy is a songwriter bred in the snowy New England winter
 s\,  cutting his teeth in coffee shops and breweries around the Pioneer Val
 ley\,  eventually moving to Miami to record his first full length album. Ja
 zzy-pop and soulful-rock are two descriptions that are commonly used when d
 escribing DeRoy&#8217;s catchy sound.[..]\nhttps://lunastarcafe.com/events/
 luke-deroy/
URL:https://lunastarcafe.com/events/luke-deroy/
END:VEVENT
END:VCALENDAR