BEGIN:VCALENDAR
VERSION:2.0
PRODID:-//eventon.com NONSGML v1.0//EN
CALSCALE:GREGORIAN
METHOD:PUBLISH
BEGIN:VEVENT
UID:69e9e8f3dd1d3
DTSTAMP:20260423T094003Z
DTSTART:20180222T010000Z
DTEND:20180222T102600Z
LOCATION:
SUMMARY:STARY OLFA
DESCRIPTION:The band&#8217;s repertoire includes Belarusian folk balladry a
 nd martial songs\,  Belarusian national dances\,  works of Belarusian Renai
 ssance composers\,  compositions from Belarusian aulic music collections (e
 .g. Polack Notebook\,  Vilnia Notebook)\,  Belarusian canticles of the 16th
  &#8211; early 17th centuries\,  as well as European popular melodies of th
 e Middle Ages and Renascence.[..]\nhttps://lunastarcafe.com/events/stary-ol
 fa/
URL:https://lunastarcafe.com/events/stary-olfa/
END:VEVENT
END:VCALENDAR