BEGIN:VCALENDAR
VERSION:2.0
PRODID:-//eventon.com NONSGML v1.0//EN
CALSCALE:GREGORIAN
METHOD:PUBLISH
BEGIN:VEVENT
UID:69e5748c87589
DTSTAMP:20260420T003420Z
DTSTART:20200213T000000Z
DTEND:20200214T040000Z
LOCATION:
SUMMARY:NASHVILLE SONGWRITERS ASSOCIATION INTERNATIONAL SOUTH FLORIDA CHAPTER OF SOUTH FLORIDA
DESCRIPTION:NSAI South Florida Chapter Songwriter workshop Bring an origina
 l song for critique on CD\,  or perform it live acoustically. Make sure to 
 have 12 copies of your lyric sheet. $5 for non-members/ FREE for members. T
 his workshop is affiliated with the Nashville Songwriters Association Inter
 national. (nashvillesongwriters.com)\nhttps://lunastarcafe.com/events/nashv
 ille-singer-association-international-south-florida-chapter-of/var/ri-1.l-L
 1
URL:https://lunastarcafe.com/events/nashville-singer-association-international-south-florida-chapter-of/var/ri-1.l-L1
END:VEVENT
END:VCALENDAR