BEGIN:VCALENDAR
VERSION:2.0
PRODID:-//eventon.com NONSGML v1.0//EN
CALSCALE:GREGORIAN
METHOD:PUBLISH
BEGIN:VEVENT
UID:69e8419a424ec
DTSTAMP:20260422T033346Z
DTSTART:20170414T000000Z
DTEND:20170415T030000Z
LOCATION:
SUMMARY:TROUBLE IN THE GARDEN
DESCRIPTION:TROUBLE IN THE GARDEN &#8220;Trouble In The Garden&#8221;\,  is
  an original band from South Florida\,  with roots in various styles of mus
 ic. Their infectious\,  soulful\,  sound is unable to be labeled in one spe
 cific genre\,  because of the diversity of songwriting.Their stage performa
 nce is engaging&#8230;energetic&#8230;and the tunes will have you[..]\nhttp
 s://lunastarcafe.com/events/1016/
URL:https://lunastarcafe.com/events/1016/
END:VEVENT
END:VCALENDAR